BEGIN:VCALENDAR
VERSION:2.0
PRODID:-//The Halo - ECPv6.15.11//NONSGML v1.0//EN
CALSCALE:GREGORIAN
METHOD:PUBLISH
X-WR-CALNAME:The Halo
X-ORIGINAL-URL:https://www.halokids.org
X-WR-CALDESC:Events for The Halo
REFRESH-INTERVAL;VALUE=DURATION:PT1H
X-Robots-Tag:noindex
X-PUBLISHED-TTL:PT1H
BEGIN:VTIMEZONE
TZID:America/New_York
BEGIN:DAYLIGHT
TZOFFSETFROM:-0500
TZOFFSETTO:-0400
TZNAME:EDT
DTSTART:20220313T070000
END:DAYLIGHT
BEGIN:STANDARD
TZOFFSETFROM:-0400
TZOFFSETTO:-0500
TZNAME:EST
DTSTART:20221106T060000
END:STANDARD
BEGIN:DAYLIGHT
TZOFFSETFROM:-0500
TZOFFSETTO:-0400
TZNAME:EDT
DTSTART:20230312T070000
END:DAYLIGHT
BEGIN:STANDARD
TZOFFSETFROM:-0400
TZOFFSETTO:-0500
TZNAME:EST
DTSTART:20231105T060000
END:STANDARD
BEGIN:DAYLIGHT
TZOFFSETFROM:-0500
TZOFFSETTO:-0400
TZNAME:EDT
DTSTART:20240310T070000
END:DAYLIGHT
BEGIN:STANDARD
TZOFFSETFROM:-0400
TZOFFSETTO:-0500
TZNAME:EST
DTSTART:20241103T060000
END:STANDARD
END:VTIMEZONE
BEGIN:VEVENT
DTSTART;VALUE=DATE:20231107
DTEND;VALUE=DATE:20231108
DTSTAMP:20260420T010419
CREATED:20250912T082648Z
LAST-MODIFIED:20250923T110933Z
UID:941-1699315200-1699401599@www.halokids.org
SUMMARY:Skyzone – November 7th\, 2023
DESCRIPTION:HALO’s Canterbury branch made a real difference in the lives of foster children on Saturday\, November 7th\, 2023\, with a high-energy event at Sky Zone. Volunteers and kids connected through shared laughter and fun\, creating positive memories that will last long after the day was over. This event is just one way HALO provides healing\, connection\, love\, and outreach to foster children in our community. \nThank you to everyone who supported this event\, from our passionate volunteers to our generous donors. We’re excited to continue our mission and create even more impactful experiences for foster children. Stay tuned for details on future HALO events! \nQuestions about the event or want to join our cause? Contact us for more information \nContact Us
URL:https://www.halokids.org/event/skyzone-november-7th-2023/
LOCATION:Sky Zone Trampoline Park\, 9370 Dynasty Dr\, Fort Myers\, FL 33905\, United States\, Fort Myers\, FL\, 33905\, United States
CATEGORIES:Past Events
ATTACH;FMTTYPE=image/webp:https://www.halokids.org/wp-content/uploads/2025/09/depositphotos_281668004-stock-photo-save-the-date-web-sticker.webp
END:VEVENT
END:VCALENDAR