BEGIN:VCALENDAR
VERSION:2.0
PRODID:-//The Halo - ECPv6.15.11//NONSGML v1.0//EN
CALSCALE:GREGORIAN
METHOD:PUBLISH
X-WR-CALNAME:The Halo
X-ORIGINAL-URL:https://www.halokids.org
X-WR-CALDESC:Events for The Halo
REFRESH-INTERVAL;VALUE=DURATION:PT1H
X-Robots-Tag:noindex
X-PUBLISHED-TTL:PT1H
BEGIN:VTIMEZONE
TZID:America/New_York
BEGIN:DAYLIGHT
TZOFFSETFROM:-0500
TZOFFSETTO:-0400
TZNAME:EDT
DTSTART:20240310T070000
END:DAYLIGHT
BEGIN:STANDARD
TZOFFSETFROM:-0400
TZOFFSETTO:-0500
TZNAME:EST
DTSTART:20241103T060000
END:STANDARD
BEGIN:DAYLIGHT
TZOFFSETFROM:-0500
TZOFFSETTO:-0400
TZNAME:EDT
DTSTART:20250309T070000
END:DAYLIGHT
BEGIN:STANDARD
TZOFFSETFROM:-0400
TZOFFSETTO:-0500
TZNAME:EST
DTSTART:20251102T060000
END:STANDARD
BEGIN:DAYLIGHT
TZOFFSETFROM:-0500
TZOFFSETTO:-0400
TZNAME:EDT
DTSTART:20260308T070000
END:DAYLIGHT
BEGIN:STANDARD
TZOFFSETFROM:-0400
TZOFFSETTO:-0500
TZNAME:EST
DTSTART:20261101T060000
END:STANDARD
END:VTIMEZONE
BEGIN:VEVENT
DTSTART;TZID=America/New_York:20250913T123000
DTEND;TZID=America/New_York:20250913T123000
DTSTAMP:20260420T010105
CREATED:20251008T051753Z
LAST-MODIFIED:20251008T083302Z
UID:2881-1757766600-1757766600@www.halokids.org
SUMMARY:Skyzone – September 13th\, 2025
DESCRIPTION:12:30 start time with Noon arrival\n14181 S Tamiami Trail #140\, Fort Myers\, FL 33912 \nContact Us
URL:https://www.halokids.org/event/skyzone-september-13th-2025/
LOCATION:Fort Myers\, 14181 S Tamiami Trail #140; Fort Myers\, FL 33912\, Fort Myers\, FL\, 33912\, United States
CATEGORIES:Past Events
ATTACH;FMTTYPE=image/webp:https://www.halokids.org/wp-content/uploads/2025/10/skyzone.webp
END:VEVENT
END:VCALENDAR