BEGIN:VCALENDAR
VERSION:2.0
PRODID:-//The Halo - ECPv6.15.11//NONSGML v1.0//EN
CALSCALE:GREGORIAN
METHOD:PUBLISH
X-ORIGINAL-URL:https://www.halokids.org
X-WR-CALDESC:Events for The Halo
REFRESH-INTERVAL;VALUE=DURATION:PT1H
X-Robots-Tag:noindex
X-PUBLISHED-TTL:PT1H
BEGIN:VTIMEZONE
TZID:America/New_York
BEGIN:DAYLIGHT
TZOFFSETFROM:-0500
TZOFFSETTO:-0400
TZNAME:EDT
DTSTART:20220313T070000
END:DAYLIGHT
BEGIN:STANDARD
TZOFFSETFROM:-0400
TZOFFSETTO:-0500
TZNAME:EST
DTSTART:20221106T060000
END:STANDARD
BEGIN:DAYLIGHT
TZOFFSETFROM:-0500
TZOFFSETTO:-0400
TZNAME:EDT
DTSTART:20230312T070000
END:DAYLIGHT
BEGIN:STANDARD
TZOFFSETFROM:-0400
TZOFFSETTO:-0500
TZNAME:EST
DTSTART:20231105T060000
END:STANDARD
BEGIN:DAYLIGHT
TZOFFSETFROM:-0500
TZOFFSETTO:-0400
TZNAME:EDT
DTSTART:20240310T070000
END:DAYLIGHT
BEGIN:STANDARD
TZOFFSETFROM:-0400
TZOFFSETTO:-0500
TZNAME:EST
DTSTART:20241103T060000
END:STANDARD
BEGIN:DAYLIGHT
TZOFFSETFROM:-0500
TZOFFSETTO:-0400
TZNAME:EDT
DTSTART:20250309T070000
END:DAYLIGHT
BEGIN:STANDARD
TZOFFSETFROM:-0400
TZOFFSETTO:-0500
TZNAME:EST
DTSTART:20251102T060000
END:STANDARD
BEGIN:DAYLIGHT
TZOFFSETFROM:-0500
TZOFFSETTO:-0400
TZNAME:EDT
DTSTART:20260308T070000
END:DAYLIGHT
BEGIN:STANDARD
TZOFFSETFROM:-0400
TZOFFSETTO:-0500
TZNAME:EST
DTSTART:20261101T060000
END:STANDARD
END:VTIMEZONE
BEGIN:VEVENT
DTSTART;TZID=America/New_York:20251005T100000
DTEND;TZID=America/New_York:20251005T110000
DTSTAMP:20260420T034636
CREATED:20251008T053803Z
LAST-MODIFIED:20251008T143527Z
UID:2885-1759658400-1759662000@www.halokids.org
SUMMARY:IronDNA Fitness – October 5th\, 2025
DESCRIPTION:Sunday\, October 5th 10am-11am\n10970 S Cleveland Ave. Suite 501 \n$15 dollar entry fee\nAll Proceeds donated to local foster care families \nContact Us
URL:https://www.halokids.org/event/irondna-fitness-october-5th-2025/
LOCATION:IronDNA Fitness\, 10970 S Cleveland Ave. Suite 501
CATEGORIES:Past Events
ATTACH;FMTTYPE=image/webp:https://www.halokids.org/wp-content/uploads/2025/10/yoga-1.webp
END:VEVENT
BEGIN:VEVENT
DTSTART;TZID=America/New_York:20250913T123000
DTEND;TZID=America/New_York:20250913T123000
DTSTAMP:20260420T034636
CREATED:20251008T051753Z
LAST-MODIFIED:20251008T083302Z
UID:2881-1757766600-1757766600@www.halokids.org
SUMMARY:Skyzone – September 13th\, 2025
DESCRIPTION:12:30 start time with Noon arrival\n14181 S Tamiami Trail #140\, Fort Myers\, FL 33912 \nContact Us
URL:https://www.halokids.org/event/skyzone-september-13th-2025/
LOCATION:Fort Myers\, 14181 S Tamiami Trail #140; Fort Myers\, FL 33912\, Fort Myers\, FL\, 33912\, United States
CATEGORIES:Past Events
ATTACH;FMTTYPE=image/webp:https://www.halokids.org/wp-content/uploads/2025/10/skyzone.webp
END:VEVENT
BEGIN:VEVENT
DTSTART;TZID=America/New_York:20250524T230000
DTEND;TZID=America/New_York:20250524T230000
DTSTAMP:20260420T034636
CREATED:20250912T083946Z
LAST-MODIFIED:20250924T060918Z
UID:953-1748127600-1748127600@www.halokids.org
SUMMARY:SkyZone – May 24th\, 2025
DESCRIPTION:HALO Club’s Fort Myers and Canterbury branches are coming together for the final event of the year—an exciting day of jumping\, laughter\, and connection at SkyZone North on Saturday\, May 24th\, 2025. The event kicks off at 11:00 AM\, with lunch and cupcakes served from 12:30 to 1:30 PM. It’s a special way to wrap up an incredible season of outreach with our amazing foster children and dedicated volunteers. \nSpots are limited\, so in order to attend\, families must fill out the Google Form located in our official Google Classroom. To join\, use the code APDiiVG. We can’t wait to celebrate all the love\, healing\, and community HALO has shared this year—see you at SkyZone! \nQuestions about the event or want to join our cause? Contact us for more information. \nContact Us
URL:https://www.halokids.org/event/halo-skyzone-may-24th-2025/
LOCATION:Sky Zone Trampoline Park\, 9370 Dynasty Dr\, Fort Myers\, FL 33905\, United States\, Fort Myers\, FL\, 33905\, United States
CATEGORIES:Past Events
ATTACH;FMTTYPE=image/webp:https://www.halokids.org/wp-content/uploads/2025/09/skyzone-resized.webp
END:VEVENT
BEGIN:VEVENT
DTSTART;TZID=America/New_York:20250301T120000
DTEND;TZID=America/New_York:20250301T133000
DTSTAMP:20260420T034636
CREATED:20250912T083206Z
LAST-MODIFIED:20250923T110927Z
UID:947-1740830400-1740835800@www.halokids.org
SUMMARY:HeadPinz – March 1st\, 2025
DESCRIPTION:Get ready for strikes and smiles! HALO’s Fort Myers and Canterbury branches are teaming up to host an exciting bowling event for foster children at HeadPinz in Fort Myers on March 1st\, 2025! Mark your calendars now for a day filled with fun\, friendly competition\, and connection. We’ll be sharing more details soon about other activities planned\, but we can’t wait to bring together our amazing volunteers and the wonderful foster children of Lee County for another memorable HALO experience. \nStay tuned for more information about this upcoming event at HeadPinz! We’re looking forward to seeing everyone there and creating even more opportunities for healing\, connection\, love\, and outreach. \nQuestions about the event or want to join our cause? Contact us for more information. \nContact Us
URL:https://www.halokids.org/event/headpinz-march-1st-2025/
LOCATION:HeadPinz Fort Myers\, 14513 Global Pkwy\, Fort Myers\, FL 33913\, United States\, Fort Myers\, FL\, 33913\, United States
CATEGORIES:Past Events
ATTACH;FMTTYPE=image/webp:https://www.halokids.org/wp-content/uploads/2025/09/Headpinz-march-1st-canterbury-fort-myers.webp
END:VEVENT
BEGIN:VEVENT
DTSTART;VALUE=DATE:20241116
DTEND;VALUE=DATE:20241117
DTSTAMP:20260420T034636
CREATED:20250912T082951Z
LAST-MODIFIED:20250923T110930Z
UID:944-1731715200-1731801599@www.halokids.org
SUMMARY:Skyzone – November 16th\, 2024
DESCRIPTION:HALO’s Fort Myers and Canterbury branches hosted a fantastic event at Sky Zone on November 16th\, 2024\, bringing together foster children and high school volunteers for a day of fun and connection. Partnering once again with the Children’s Network of SWFL\, HALO provided a supportive and exciting environment where kids could connect with positive role models and create lasting memories. It was a wonderful example of HALO’s mission in action\, bringing healing\, connection\, love\, and outreach to foster children. \nWe’re so thankful for the combined efforts of our Fort Myers and Canterbury branches\, our amazing volunteers\, and our generous supporters. Events like this are crucial to HALO’s work\, and we’re already looking forward to the next opportunity to make a difference in the lives of foster children in our community. Stay tuned for updates on future HALO events! \nQuestions about the event or want to join our cause? Contact us for more information. \nContact Us
URL:https://www.halokids.org/event/skyzone-november-16th-2024/
LOCATION:Sky Zone Trampoline Park\, 9370 Dynasty Dr\, Fort Myers\, FL 33905\, United States\, Fort Myers\, FL\, 33905\, United States
CATEGORIES:Past Events
ATTACH;FMTTYPE=image/webp:https://www.halokids.org/wp-content/uploads/2025/09/fort-myers-canterbury-club-skyzone-event.webp
END:VEVENT
BEGIN:VEVENT
DTSTART;VALUE=DATE:20231107
DTEND;VALUE=DATE:20231108
DTSTAMP:20260420T034636
CREATED:20250912T082648Z
LAST-MODIFIED:20250923T110933Z
UID:941-1699315200-1699401599@www.halokids.org
SUMMARY:Skyzone – November 7th\, 2023
DESCRIPTION:HALO’s Canterbury branch made a real difference in the lives of foster children on Saturday\, November 7th\, 2023\, with a high-energy event at Sky Zone. Volunteers and kids connected through shared laughter and fun\, creating positive memories that will last long after the day was over. This event is just one way HALO provides healing\, connection\, love\, and outreach to foster children in our community. \nThank you to everyone who supported this event\, from our passionate volunteers to our generous donors. We’re excited to continue our mission and create even more impactful experiences for foster children. Stay tuned for details on future HALO events! \nQuestions about the event or want to join our cause? Contact us for more information \nContact Us
URL:https://www.halokids.org/event/skyzone-november-7th-2023/
LOCATION:Sky Zone Trampoline Park\, 9370 Dynasty Dr\, Fort Myers\, FL 33905\, United States\, Fort Myers\, FL\, 33905\, United States
CATEGORIES:Past Events
ATTACH;FMTTYPE=image/webp:https://www.halokids.org/wp-content/uploads/2025/09/depositphotos_281668004-stock-photo-save-the-date-web-sticker.webp
END:VEVENT
BEGIN:VEVENT
DTSTART;VALUE=DATE:20230321
DTEND;VALUE=DATE:20230322
DTSTAMP:20260420T034636
CREATED:20250912T074928Z
LAST-MODIFIED:20250923T110936Z
UID:937-1679356800-1679443199@www.halokids.org
SUMMARY:IMAG Museum – March 21st\, 2023
DESCRIPTION:HALO members and foster children enjoyed a day of exploration and discovery at the IMAG History & Science Center on March 21st\, 2023! This special event\, organized in partnership with the Children’s Network of SWFL\, offered a unique opportunity for connection and learning. High school volunteers and the children explored the exhibits together\, fostering friendships and creating lasting memories. It was a wonderful way for HALO to provide healing\, connection\, love\, and outreach\, fulfilling its mission to support foster children in Lee County. \nWe are so grateful to the IMAG History & Science Center\, the Children’s Network of SWFL\, our incredible volunteers\, and our generous donors for making this event possible. Experiences like this are invaluable for the children we serve\, and we’re already excited to plan more enriching events in the future. Stay tuned for updates on upcoming HALO activities! \nQuestions about the event or want to join our cause? Contact us for more information. \nContact Us
URL:https://www.halokids.org/event/imag-museum-march-21st-2023/
LOCATION:IMAG History & Science Center\, 2000 Cranford Ave\, Fort Myers\, FL 33916\, United States\, Fort Myers\, FL\, 33916\, United States
CATEGORIES:Past Events
ATTACH;FMTTYPE=image/webp:https://www.halokids.org/wp-content/uploads/2025/09/depositphotos_350127000-stock-photo-word-writing-text-raise-awareness.webp
END:VEVENT
BEGIN:VEVENT
DTSTART;VALUE=DATE:20230121
DTEND;VALUE=DATE:20230122
DTSTAMP:20260420T034636
CREATED:20250912T071034Z
LAST-MODIFIED:20250924T060939Z
UID:893-1674259200-1674345599@www.halokids.org
SUMMARY:Skyzone – January 21st\, 2023
DESCRIPTION:On Saturday\, January 21st\, 2023\, HALO’s Canterbury branch hosted a fantastic event at Sky Zone for foster children in Lee County! Partnering with the Children’s Network of SWFL\, we brought together high school volunteers and foster children for a day of bouncing\, laughter\, and fun. It was a great opportunity for the kids to connect with positive role models and enjoy a memorable experience. \nWe’re so grateful to everyone who made this event possible\, from our dedicated volunteers to our generous supporters. Events like this are at the heart of HALO’s mission to provide healing\, connection\, love\, and outreach to foster children. Stay tuned for information about future HALO events \nQuestions about the event or want to join our cause? Contact us for more information.\nContact Us
URL:https://www.halokids.org/event/skyzone-january-21st-2023/
LOCATION:Sky Zone Trampoline Park\, 9370 Dynasty Dr\, Fort Myers\, FL 33905\, United States\, Fort Myers\, FL\, 33905\, United States
CATEGORIES:Past Events
ATTACH;FMTTYPE=image/webp:https://www.halokids.org/wp-content/uploads/2025/09/depositphotos_16977591-stock-photo-save-the-date-words-circled.webp
END:VEVENT
END:VCALENDAR